BEGIN:VCALENDAR
VERSION:2.0
PRODID:-//Plone.org//NONSGML plone.app.event//EN
X-WR-TIMEZONE:Brazil/East
BEGIN:VEVENT
SUMMARY:Curso de Secretariado
DTSTART;TZID=Brazil/East;VALUE=DATE-TIME:20251208T080000
DTEND;TZID=Brazil/East;VALUE=DATE-TIME:20251212T110000
DTSTAMP;VALUE=DATE-TIME:20260421T104645Z
UID:51b6201304d542b493feda0935eb0172@www.castanheiras.ro.leg.br
ATTENDEE;CN="Estudantes,Servidores,Empresas e Comunidade.";ROLE=REQ-PARTIC
 IPANT:Estudantes,Servidores,Empresas e Comunidade.
CREATED;VALUE=DATE-TIME:20251202T113700Z
DESCRIPTION:Ministrado por prof: Aldo Dias
LAST-MODIFIED;VALUE=DATE-TIME:20251202T113707Z
LOCATION:Plenário da Câmara Municipal
URL:https://www.castanheiras.ro.leg.br/institucional/eventos/curso-de-secr
 etariado
END:VEVENT
BEGIN:VTIMEZONE
TZID:Brazil/East
X-LIC-LOCATION:Brazil/East
BEGIN:DAYLIGHT
DTSTART;VALUE=DATE-TIME:20251019T010000
TZNAME:BRST
TZOFFSETFROM:-0300
TZOFFSETTO:-0200
END:DAYLIGHT
END:VTIMEZONE
END:VCALENDAR
